Package: RNAmodR Version: 1.18.0 Command: /Library/Frameworks/R.framework/Resources/bin/R CMD build --keep-empty-dirs --no-resave-data RNAmodR StartedAt: 2024-10-16 22:39:49 -0400 (Wed, 16 Oct 2024) EndedAt: 2024-10-16 22:47:08 -0400 (Wed, 16 Oct 2024) EllapsedTime: 438.7 seconds RetCode: 0 Status: OK PackageFile: RNAmodR_1.18.0.tar.gz PackageFileSize: 1.512 MiB