Package: RNAmodR Version: 1.18.0 Command: rm -rf RNAmodR.buildbin-libdir && mkdir RNAmodR.buildbin-libdir && /Users/biocbuild/BBS/utils/build-universal.sh RNAmodR_1.18.0.tar.gz /Library/Frameworks/R.framework/Resources/bin/R RNAmodR.buildbin-libdir StartedAt: 2024-06-10 00:36:04 -0400 (Mon, 10 Jun 2024) EndedAt: 2024-06-10 00:37:44 -0400 (Mon, 10 Jun 2024) EllapsedTime: 99.9 seconds RetCode: 0 Status: OK PackageFile: RNAmodR_1.18.0.tgz PackageFileSize: 2.946 MiB