Package: RNAmodR Version: 1.18.0 Command: /Library/Frameworks/R.framework/Resources/bin/R CMD INSTALL RNAmodR StartedAt: 2024-10-16 17:21:29 -0400 (Wed, 16 Oct 2024) EndedAt: 2024-10-16 17:22:52 -0400 (Wed, 16 Oct 2024) EllapsedTime: 83.3 seconds RetCode: 0 Status: OK