Package: RNAmodR.RiboMethSeq Version: 1.18.0 Command: E:\biocbuild\bbs-3.19-bioc\R\bin\R.exe CMD INSTALL RNAmodR.RiboMethSeq StartedAt: 2024-10-16 16:51:02 -0400 (Wed, 16 Oct 2024) EndedAt: 2024-10-16 16:53:09 -0400 (Wed, 16 Oct 2024) EllapsedTime: 127.0 seconds RetCode: 0 Status: OK