Package: RNAmodR.RiboMethSeq Version: 1.18.0 Command: chmod a+r RNAmodR.RiboMethSeq -R && E:\biocbuild\bbs-3.19-bioc\R\bin\R.exe CMD build --keep-empty-dirs --no-resave-data RNAmodR.RiboMethSeq StartedAt: 2024-10-16 21:34:34 -0400 (Wed, 16 Oct 2024) EndedAt: 2024-10-16 21:37:58 -0400 (Wed, 16 Oct 2024) EllapsedTime: 203.8 seconds RetCode: 0 Status: OK PackageFile: RNAmodR.RiboMethSeq_1.18.0.tar.gz PackageFileSize: 470.9 KiB