Package: RNAmodR.RiboMethSeq Version: 1.18.0 Command: rm -rf RNAmodR.RiboMethSeq.buildbin-libdir && mkdir RNAmodR.RiboMethSeq.buildbin-libdir && E:\biocbuild\bbs-3.19-bioc\R\bin\R.exe CMD INSTALL --build --library=RNAmodR.RiboMethSeq.buildbin-libdir RNAmodR.RiboMethSeq_1.18.0.tar.gz StartedAt: 2024-10-17 08:30:57 -0400 (Thu, 17 Oct 2024) EndedAt: 2024-10-17 08:32:20 -0400 (Thu, 17 Oct 2024) EllapsedTime: 82.7 seconds RetCode: 0 Status: OK PackageFile: RNAmodR.RiboMethSeq_1.18.0.zip PackageFileSize: 556 KiB