Package: RNAmodR.RiboMethSeq Version: 1.18.0 Command: F:\biocbuild\bbs-3.19-bioc\R\bin\R.exe CMD INSTALL RNAmodR.RiboMethSeq StartedAt: 2024-06-26 16:25:27 -0400 (Wed, 26 Jun 2024) EndedAt: 2024-06-26 16:26:41 -0400 (Wed, 26 Jun 2024) EllapsedTime: 73.9 seconds RetCode: 0 Status: OK