Package: RNAmodR.RiboMethSeq Version: 1.18.0 Command: F:\biocbuild\bbs-3.19-bioc\R\bin\R.exe CMD check --no-multiarch --install=check:RNAmodR.RiboMethSeq.install-out.txt --library=F:\biocbuild\bbs-3.19-bioc\R\library --no-vignettes --timings RNAmodR.RiboMethSeq_1.18.0.tar.gz StartedAt: 2024-06-27 05:32:08 -0400 (Thu, 27 Jun 2024) EndedAt: 2024-06-27 05:40:48 -0400 (Thu, 27 Jun 2024) EllapsedTime: 520.2 seconds RetCode: 0 Status: OK CheckDir: RNAmodR.RiboMethSeq.Rcheck Warnings: 0