Package: RNAmodR.RiboMethSeq Version: 1.18.0 Command: /Library/Frameworks/R.framework/Resources/bin/R CMD build --keep-empty-dirs --no-resave-data RNAmodR.RiboMethSeq StartedAt: 2024-10-16 22:40:24 -0400 (Wed, 16 Oct 2024) EndedAt: 2024-10-16 22:44:56 -0400 (Wed, 16 Oct 2024) EllapsedTime: 272.8 seconds RetCode: 0 Status: OK PackageFile: RNAmodR.RiboMethSeq_1.18.0.tar.gz PackageFileSize: 639.1 KiB