Package: RNAmodR.RiboMethSeq Version: 1.18.0 Command: rm -rf RNAmodR.RiboMethSeq.buildbin-libdir && mkdir RNAmodR.RiboMethSeq.buildbin-libdir && /Users/biocbuild/BBS/utils/build-universal.sh RNAmodR.RiboMethSeq_1.18.0.tar.gz /Library/Frameworks/R.framework/Resources/bin/R RNAmodR.RiboMethSeq.buildbin-libdir StartedAt: 2024-10-17 17:02:02 -0400 (Thu, 17 Oct 2024) EndedAt: 2024-10-17 17:04:20 -0400 (Thu, 17 Oct 2024) EllapsedTime: 137.9 seconds RetCode: 0 Status: OK PackageFile: RNAmodR.RiboMethSeq_1.18.0.tgz PackageFileSize: 719.1 KiB