Package: RNAmodR.RiboMethSeq Version: 1.18.0 Command: rm -rf RNAmodR.RiboMethSeq.buildbin-libdir && mkdir RNAmodR.RiboMethSeq.buildbin-libdir && /Users/biocbuild/BBS/utils/build-universal.sh RNAmodR.RiboMethSeq_1.18.0.tar.gz /Library/Frameworks/R.framework/Resources/bin/R RNAmodR.RiboMethSeq.buildbin-libdir StartedAt: 2024-06-10 00:36:11 -0400 (Mon, 10 Jun 2024) EndedAt: 2024-06-10 00:37:27 -0400 (Mon, 10 Jun 2024) EllapsedTime: 76.4 seconds RetCode: 0 Status: OK PackageFile: RNAmodR.RiboMethSeq_1.18.0.tgz PackageFileSize: 719.2 KiB