Package: RNAmodR.RiboMethSeq Version: 1.18.0 Command: /Library/Frameworks/R.framework/Resources/bin/R CMD INSTALL RNAmodR.RiboMethSeq StartedAt: 2024-06-09 16:35:40 -0400 (Sun, 09 Jun 2024) EndedAt: 2024-06-09 16:37:01 -0400 (Sun, 09 Jun 2024) EllapsedTime: 80.3 seconds RetCode: 0 Status: OK