Package: RNAmodR.RiboMethSeq Version: 1.18.0 Command: /Library/Frameworks/R.framework/Resources/bin/R CMD check --install=check:RNAmodR.RiboMethSeq.install-out.txt --library=/Library/Frameworks/R.framework/Resources/library --no-vignettes --timings RNAmodR.RiboMethSeq_1.18.0.tar.gz StartedAt: 2024-06-11 03:28:09 -0400 (Tue, 11 Jun 2024) EndedAt: 2024-06-11 03:40:29 -0400 (Tue, 11 Jun 2024) EllapsedTime: 739.1 seconds RetCode: 0 Status: OK CheckDir: RNAmodR.RiboMethSeq.Rcheck Warnings: 0