Package: RNAmodR.RiboMethSeq Version: 1.18.0 Command: /Library/Frameworks/R.framework/Resources/bin/R CMD build --keep-empty-dirs --no-resave-data RNAmodR.RiboMethSeq StartedAt: 2024-06-10 03:39:13 -0400 (Mon, 10 Jun 2024) EndedAt: 2024-06-10 03:42:25 -0400 (Mon, 10 Jun 2024) EllapsedTime: 192.1 seconds RetCode: 0 Status: OK PackageFile: RNAmodR.RiboMethSeq_1.18.0.tar.gz PackageFileSize: 639.2 KiB