Package: RNAmodR.RiboMethSeq Version: 1.18.0 Command: rm -rf RNAmodR.RiboMethSeq.buildbin-libdir && mkdir RNAmodR.RiboMethSeq.buildbin-libdir && /Users/biocbuild/BBS/utils/build-universal.sh RNAmodR.RiboMethSeq_1.18.0.tar.gz /Library/Frameworks/R.framework/Resources/bin/R RNAmodR.RiboMethSeq.buildbin-libdir StartedAt: 2024-06-11 12:54:45 -0400 (Tue, 11 Jun 2024) EndedAt: 2024-06-11 12:56:42 -0400 (Tue, 11 Jun 2024) EllapsedTime: 117.6 seconds RetCode: 0 Status: OK PackageFile: RNAmodR.RiboMethSeq_1.18.0.tgz PackageFileSize: 719.3 KiB