Package: RNAmodR.RiboMethSeq Version: 1.18.0 Command: /Library/Frameworks/R.framework/Resources/bin/R CMD build --keep-empty-dirs --no-resave-data RNAmodR.RiboMethSeq StartedAt: 2024-10-17 07:53:13 -0400 (Thu, 17 Oct 2024) EndedAt: 2024-10-17 07:55:43 -0400 (Thu, 17 Oct 2024) EllapsedTime: 149.4 seconds RetCode: 0 Status: OK PackageFile: RNAmodR.RiboMethSeq_1.18.0.tar.gz PackageFileSize: 639 KiB