Package: RNAmodR.ML Version: 1.18.0 Command: /Library/Frameworks/R.framework/Resources/bin/R CMD build --keep-empty-dirs --no-resave-data RNAmodR.ML StartedAt: 2024-10-17 07:51:09 -0400 (Thu, 17 Oct 2024) EndedAt: 2024-10-17 07:55:02 -0400 (Thu, 17 Oct 2024) EllapsedTime: 232.8 seconds RetCode: 0 Status: OK PackageFile: RNAmodR.ML_1.18.0.tar.gz PackageFileSize: 1.58 MiB