Package: RNAmodR.AlkAnilineSeq Version: 1.18.0 Command: E:\biocbuild\bbs-3.19-bioc\R\bin\R.exe CMD INSTALL RNAmodR.AlkAnilineSeq StartedAt: 2024-10-16 16:50:07 -0400 (Wed, 16 Oct 2024) EndedAt: 2024-10-16 16:51:35 -0400 (Wed, 16 Oct 2024) EllapsedTime: 87.9 seconds RetCode: 0 Status: OK