Package: RNAmodR.AlkAnilineSeq Version: 1.18.0 Command: E:\biocbuild\bbs-3.19-bioc\R\bin\R.exe CMD check --no-multiarch --install=check:RNAmodR.AlkAnilineSeq.install-out.txt --library=E:\biocbuild\bbs-3.19-bioc\R\library --no-vignettes --timings RNAmodR.AlkAnilineSeq_1.18.0.tar.gz StartedAt: 2024-10-17 05:08:31 -0400 (Thu, 17 Oct 2024) EndedAt: 2024-10-17 05:17:22 -0400 (Thu, 17 Oct 2024) EllapsedTime: 530.7 seconds RetCode: 0 Status: OK CheckDir: RNAmodR.AlkAnilineSeq.Rcheck Warnings: 0