Package: RNAmodR.AlkAnilineSeq Version: 1.18.0 Command: rm -rf RNAmodR.AlkAnilineSeq.buildbin-libdir && mkdir RNAmodR.AlkAnilineSeq.buildbin-libdir && F:\biocbuild\bbs-3.19-bioc\R\bin\R.exe CMD INSTALL --build --library=RNAmodR.AlkAnilineSeq.buildbin-libdir RNAmodR.AlkAnilineSeq_1.18.0.tar.gz StartedAt: 2024-06-27 08:48:42 -0400 (Thu, 27 Jun 2024) EndedAt: 2024-06-27 08:50:01 -0400 (Thu, 27 Jun 2024) EllapsedTime: 78.7 seconds RetCode: 0 Status: OK PackageFile: RNAmodR.AlkAnilineSeq_1.18.0.zip PackageFileSize: 981.7 KiB