Package: RNAmodR.AlkAnilineSeq Version: 1.18.0 Command: /home/biocbuild/bbs-3.19-bioc/R/bin/R CMD build --keep-empty-dirs --no-resave-data RNAmodR.AlkAnilineSeq StartedAt: 2024-10-16 20:29:38 -0400 (Wed, 16 Oct 2024) EndedAt: 2024-10-16 20:31:54 -0400 (Wed, 16 Oct 2024) EllapsedTime: 135.4 seconds RetCode: 0 Status: OK PackageFile: RNAmodR.AlkAnilineSeq_1.18.0.tar.gz PackageFileSize: 1020 KiB