Package: RNAmodR.AlkAnilineSeq Version: 1.18.0 Command: rm -rf RNAmodR.AlkAnilineSeq.buildbin-libdir && mkdir RNAmodR.AlkAnilineSeq.buildbin-libdir && /Users/biocbuild/BBS/utils/build-universal.sh RNAmodR.AlkAnilineSeq_1.18.0.tar.gz /Library/Frameworks/R.framework/Resources/bin/R RNAmodR.AlkAnilineSeq.buildbin-libdir StartedAt: 2024-10-17 17:01:49 -0400 (Thu, 17 Oct 2024) EndedAt: 2024-10-17 17:04:07 -0400 (Thu, 17 Oct 2024) EllapsedTime: 137.8 seconds RetCode: 0 Status: OK PackageFile: RNAmodR.AlkAnilineSeq_1.18.0.tgz PackageFileSize: 1.109 MiB