Package: RNAmodR.AlkAnilineSeq Version: 1.18.0 Command: /Library/Frameworks/R.framework/Resources/bin/R CMD build --keep-empty-dirs --no-resave-data RNAmodR.AlkAnilineSeq StartedAt: 2024-06-09 17:57:25 -0400 (Sun, 09 Jun 2024) EndedAt: 2024-06-09 17:59:44 -0400 (Sun, 09 Jun 2024) EllapsedTime: 138.7 seconds RetCode: 0 Status: OK PackageFile: RNAmodR.AlkAnilineSeq_1.18.0.tar.gz PackageFileSize: 1.04 MiB