Package: RNAmodR.AlkAnilineSeq Version: 1.18.0 Command: /home/biocbuild/R/R-beta-2024-04-15_r86425/bin/R CMD INSTALL RNAmodR.AlkAnilineSeq StartedAt: 2024-05-08 20:41:23 -0000 (Wed, 08 May 2024) EndedAt: 2024-05-08 20:42:37 -0000 (Wed, 08 May 2024) EllapsedTime: 73.8 seconds RetCode: 0 Status: OK