Package: RNAmodR.AlkAnilineSeq Version: 1.18.0 Command: /Library/Frameworks/R.framework/Resources/bin/R CMD build --keep-empty-dirs --no-resave-data RNAmodR.AlkAnilineSeq StartedAt: 2024-10-17 07:50:17 -0400 (Thu, 17 Oct 2024) EndedAt: 2024-10-17 07:53:13 -0400 (Thu, 17 Oct 2024) EllapsedTime: 176.7 seconds RetCode: 0 Status: OK PackageFile: RNAmodR.AlkAnilineSeq_1.18.0.tar.gz PackageFileSize: 1.04 MiB