Package: RNAinteract Version: 1.52.0 Command: E:\biocbuild\bbs-3.19-bioc\R\bin\R.exe CMD INSTALL RNAinteract StartedAt: 2024-10-16 17:09:15 -0400 (Wed, 16 Oct 2024) EndedAt: 2024-10-16 17:10:03 -0400 (Wed, 16 Oct 2024) EllapsedTime: 47.4 seconds RetCode: 0 Status: OK