Package: RNAinteract Version: 1.52.0 Command: E:\biocbuild\bbs-3.19-bioc\R\bin\R.exe CMD check --no-multiarch --install=check:RNAinteract.install-out.txt --library=E:\biocbuild\bbs-3.19-bioc\R\library --no-vignettes --timings RNAinteract_1.52.0.tar.gz StartedAt: 2024-10-17 05:08:26 -0400 (Thu, 17 Oct 2024) EndedAt: 2024-10-17 05:11:57 -0400 (Thu, 17 Oct 2024) EllapsedTime: 211.2 seconds RetCode: 0 Status: OK CheckDir: RNAinteract.Rcheck Warnings: 0