Package: RNAinteract Version: 1.52.0 Command: /Library/Frameworks/R.framework/Resources/bin/R CMD check --install=check:RNAinteract.install-out.txt --library=/Library/Frameworks/R.framework/Resources/library --no-vignettes --timings RNAinteract_1.52.0.tar.gz StartedAt: 2024-10-17 12:01:15 -0400 (Thu, 17 Oct 2024) EndedAt: 2024-10-17 12:08:42 -0400 (Thu, 17 Oct 2024) EllapsedTime: 447.4 seconds RetCode: 0 Status: OK CheckDir: RNAinteract.Rcheck Warnings: 0