Package: RNAinteract Version: 1.52.0 Command: rm -rf RNAinteract.buildbin-libdir && mkdir RNAinteract.buildbin-libdir && /Users/biocbuild/BBS/utils/build-universal.sh RNAinteract_1.52.0.tar.gz /Library/Frameworks/R.framework/Resources/bin/R RNAinteract.buildbin-libdir StartedAt: 2024-10-17 17:01:33 -0400 (Thu, 17 Oct 2024) EndedAt: 2024-10-17 17:02:50 -0400 (Thu, 17 Oct 2024) EllapsedTime: 76.9 seconds RetCode: 0 Status: OK PackageFile: RNAinteract_1.52.0.tgz PackageFileSize: 941.8 KiB