Package: RNAinteract Version: 1.52.0 Command: /Library/Frameworks/R.framework/Resources/bin/R CMD check --install=check:RNAinteract.install-out.txt --library=/Library/Frameworks/R.framework/Resources/library --no-vignettes --timings RNAinteract_1.52.0.tar.gz StartedAt: 2024-10-18 09:54:35 -0400 (Fri, 18 Oct 2024) EndedAt: 2024-10-18 09:58:09 -0400 (Fri, 18 Oct 2024) EllapsedTime: 213.4 seconds RetCode: 0 Status: OK CheckDir: RNAinteract.Rcheck Warnings: 0