Package: RNAdecay Version: 1.24.0 Command: E:\biocbuild\bbs-3.19-bioc\R\bin\R.exe CMD INSTALL RNAdecay StartedAt: 2024-10-16 16:08:51 -0400 (Wed, 16 Oct 2024) EndedAt: 2024-10-16 16:15:13 -0400 (Wed, 16 Oct 2024) EllapsedTime: 381.8 seconds RetCode: 0 Status: OK