Package: RNAdecay Version: 1.24.0 Command: chmod a+r RNAdecay -R && E:\biocbuild\bbs-3.19-bioc\R\bin\R.exe CMD build --keep-empty-dirs --no-resave-data RNAdecay StartedAt: 2024-10-16 21:33:20 -0400 (Wed, 16 Oct 2024) EndedAt: 2024-10-16 21:34:57 -0400 (Wed, 16 Oct 2024) EllapsedTime: 97.4 seconds RetCode: 0 Status: OK PackageFile: RNAdecay_1.24.0.tar.gz PackageFileSize: 7.191 MiB