Package: RNAdecay Version: 1.24.0 Command: rm -rf RNAdecay.buildbin-libdir && mkdir RNAdecay.buildbin-libdir && E:\biocbuild\bbs-3.19-bioc\R\bin\R.exe CMD INSTALL --build --library=RNAdecay.buildbin-libdir RNAdecay_1.24.0.tar.gz StartedAt: 2024-10-17 08:30:39 -0400 (Thu, 17 Oct 2024) EndedAt: 2024-10-17 08:30:55 -0400 (Thu, 17 Oct 2024) EllapsedTime: 16.5 seconds RetCode: 0 Status: OK PackageFile: RNAdecay_1.24.0.zip PackageFileSize: 7.226 MiB