Package: RNAdecay Version: 1.24.0 Command: rm -rf RNAdecay.buildbin-libdir && mkdir RNAdecay.buildbin-libdir && F:\biocbuild\bbs-3.19-bioc\R\bin\R.exe CMD INSTALL --build --library=RNAdecay.buildbin-libdir RNAdecay_1.24.0.tar.gz StartedAt: 2024-06-27 08:48:24 -0400 (Thu, 27 Jun 2024) EndedAt: 2024-06-27 08:48:44 -0400 (Thu, 27 Jun 2024) EllapsedTime: 20.9 seconds RetCode: 0 Status: OK PackageFile: RNAdecay_1.24.0.zip PackageFileSize: 7.224 MiB