Package: RNAdecay Version: 1.24.0 Command: /home/biocbuild/bbs-3.19-bioc/R/bin/R CMD INSTALL RNAdecay StartedAt: 2024-10-16 15:55:10 -0400 (Wed, 16 Oct 2024) EndedAt: 2024-10-16 16:02:24 -0400 (Wed, 16 Oct 2024) EllapsedTime: 434.0 seconds RetCode: 0 Status: OK