Package: RNAdecay Version: 1.24.0 Command: /home/biocbuild/bbs-3.19-bioc/R/bin/R CMD check --install=check:RNAdecay.install-out.txt --library=/home/biocbuild/bbs-3.19-bioc/R/site-library --timings RNAdecay_1.24.0.tar.gz StartedAt: 2024-10-17 04:26:46 -0400 (Thu, 17 Oct 2024) EndedAt: 2024-10-17 04:29:21 -0400 (Thu, 17 Oct 2024) EllapsedTime: 155.3 seconds RetCode: 0 Status: OK CheckDir: RNAdecay.Rcheck Warnings: 0