Package: RNAdecay Version: 1.24.0 Command: /Library/Frameworks/R.framework/Resources/bin/R CMD check --install=check:RNAdecay.install-out.txt --library=/Library/Frameworks/R.framework/Resources/library --no-vignettes --timings RNAdecay_1.24.0.tar.gz StartedAt: 2024-10-17 12:00:40 -0400 (Thu, 17 Oct 2024) EndedAt: 2024-10-17 12:01:46 -0400 (Thu, 17 Oct 2024) EllapsedTime: 66.2 seconds RetCode: 0 Status: OK CheckDir: RNAdecay.Rcheck Warnings: 0