Package: RNAdecay Version: 1.24.0 Command: /Library/Frameworks/R.framework/Resources/bin/R CMD build --keep-empty-dirs --no-resave-data RNAdecay StartedAt: 2024-10-16 22:39:36 -0400 (Wed, 16 Oct 2024) EndedAt: 2024-10-16 23:07:53 -0400 (Wed, 16 Oct 2024) EllapsedTime: 1697.3 seconds RetCode: 0 Status: OK PackageFile: RNAdecay_1.24.0.tar.gz PackageFileSize: 2.707 MiB