Package: RNAdecay Version: 1.24.0 Command: /Library/Frameworks/R.framework/Resources/bin/R CMD check --install=check:RNAdecay.install-out.txt --library=/Library/Frameworks/R.framework/Resources/library --no-vignettes --timings RNAdecay_1.24.0.tar.gz StartedAt: 2024-06-09 22:39:20 -0400 (Sun, 09 Jun 2024) EndedAt: 2024-06-09 22:39:58 -0400 (Sun, 09 Jun 2024) EllapsedTime: 37.5 seconds RetCode: 0 Status: OK CheckDir: RNAdecay.Rcheck Warnings: 0