Package: RNAdecay Version: 1.24.0 Command: /home/biocbuild/R/R-beta-2024-04-15_r86425/bin/R CMD check --install=check:RNAdecay.install-out.txt --library=/home/biocbuild/R/R-beta-2024-04-15_r86425/site-library --no-vignettes --timings RNAdecay_1.24.0.tar.gz StartedAt: 2024-05-09 11:17:20 -0000 (Thu, 09 May 2024) EndedAt: 2024-05-09 11:17:50 -0000 (Thu, 09 May 2024) EllapsedTime: 30.1 seconds RetCode: 0 Status: OK CheckDir: RNAdecay.Rcheck Warnings: 0