Package: RNAdecay Version: 1.24.0 Command: /Library/Frameworks/R.framework/Resources/bin/R CMD INSTALL RNAdecay StartedAt: 2024-10-16 16:03:35 -0400 (Wed, 16 Oct 2024) EndedAt: 2024-10-16 16:09:32 -0400 (Wed, 16 Oct 2024) EllapsedTime: 357.8 seconds RetCode: 0 Status: OK