Package: RNAdecay Version: 1.24.0 Command: /Library/Frameworks/R.framework/Resources/bin/R CMD check --install=check:RNAdecay.install-out.txt --library=/Library/Frameworks/R.framework/Resources/library --no-vignettes --timings RNAdecay_1.24.0.tar.gz StartedAt: 2024-10-18 09:53:58 -0400 (Fri, 18 Oct 2024) EndedAt: 2024-10-18 09:54:36 -0400 (Fri, 18 Oct 2024) EllapsedTime: 38.3 seconds RetCode: 0 Status: OK CheckDir: RNAdecay.Rcheck Warnings: 0