Package: RNAdecay Version: 1.24.0 Command: rm -rf RNAdecay.buildbin-libdir && mkdir RNAdecay.buildbin-libdir && /Users/biocbuild/BBS/utils/build-universal.sh RNAdecay_1.24.0.tar.gz /Library/Frameworks/R.framework/Resources/bin/R RNAdecay.buildbin-libdir StartedAt: 2024-10-15 19:56:11 -0400 (Tue, 15 Oct 2024) EndedAt: 2024-10-15 20:03:40 -0400 (Tue, 15 Oct 2024) EllapsedTime: 449.2 seconds RetCode: 0 Status: OK PackageFile: RNAdecay_1.24.0.tgz PackageFileSize: 5.14 MiB