Package: RNASeqPower Version: 1.44.0 Command: /home/biocbuild/bbs-3.19-bioc/R/bin/R CMD build --keep-empty-dirs --no-resave-data RNASeqPower StartedAt: 2024-10-16 20:30:41 -0400 (Wed, 16 Oct 2024) EndedAt: 2024-10-16 20:30:45 -0400 (Wed, 16 Oct 2024) EllapsedTime: 4.0 seconds RetCode: 0 Status: OK PackageFile: RNASeqPower_1.44.0.tar.gz PackageFileSize: 110.3 KiB