Package: RNASeqPower Version: 1.44.0 Command: /Library/Frameworks/R.framework/Resources/bin/R CMD INSTALL RNASeqPower StartedAt: 2024-10-16 15:09:47 -0400 (Wed, 16 Oct 2024) EndedAt: 2024-10-16 15:10:07 -0400 (Wed, 16 Oct 2024) EllapsedTime: 20.3 seconds RetCode: 0 Status: OK