Package: RNASeqPower Version: 1.44.0 Command: /Library/Frameworks/R.framework/Resources/bin/R CMD build --keep-empty-dirs --no-resave-data RNASeqPower StartedAt: 2024-10-17 07:55:40 -0400 (Thu, 17 Oct 2024) EndedAt: 2024-10-17 07:55:49 -0400 (Thu, 17 Oct 2024) EllapsedTime: 9.1 seconds RetCode: 0 Status: OK PackageFile: RNASeqPower_1.44.0.tar.gz PackageFileSize: 191.2 KiB