Package: RNAAgeCalc Version: 1.16.0 Command: E:\biocbuild\bbs-3.19-bioc\R\bin\R.exe CMD INSTALL RNAAgeCalc StartedAt: 2024-10-16 16:51:23 -0400 (Wed, 16 Oct 2024) EndedAt: 2024-10-16 16:52:18 -0400 (Wed, 16 Oct 2024) EllapsedTime: 54.6 seconds RetCode: 0 Status: OK