Package: RNAAgeCalc Version: 1.16.0 Command: chmod a+r RNAAgeCalc -R && E:\biocbuild\bbs-3.19-bioc\R\bin\R.exe CMD build --keep-empty-dirs --no-resave-data RNAAgeCalc StartedAt: 2024-10-16 21:33:14 -0400 (Wed, 16 Oct 2024) EndedAt: 2024-10-16 21:34:50 -0400 (Wed, 16 Oct 2024) EllapsedTime: 95.9 seconds RetCode: 0 Status: OK PackageFile: RNAAgeCalc_1.16.0.tar.gz PackageFileSize: 3.29 MiB