Package: RNAAgeCalc Version: 1.16.0 Command: rm -rf RNAAgeCalc.buildbin-libdir && mkdir RNAAgeCalc.buildbin-libdir && F:\biocbuild\bbs-3.19-bioc\R\bin\R.exe CMD INSTALL --build --library=RNAAgeCalc.buildbin-libdir RNAAgeCalc_1.16.0.tar.gz StartedAt: 2024-06-27 08:48:21 -0400 (Thu, 27 Jun 2024) EndedAt: 2024-06-27 08:49:41 -0400 (Thu, 27 Jun 2024) EllapsedTime: 79.7 seconds RetCode: 0 Status: OK PackageFile: RNAAgeCalc_1.16.0.zip PackageFileSize: 3.428 MiB