Package: RNAAgeCalc Version: 1.16.0 Command: /Library/Frameworks/R.framework/Resources/bin/R CMD INSTALL RNAAgeCalc StartedAt: 2024-10-16 16:10:30 -0400 (Wed, 16 Oct 2024) EndedAt: 2024-10-16 16:12:18 -0400 (Wed, 16 Oct 2024) EllapsedTime: 107.9 seconds RetCode: 0 Status: OK